BEGIN:VCALENDAR
VERSION:2.0
PRODID:-//Surfcenter Experiences - ECPv6.15.20//NONSGML v1.0//EN
CALSCALE:GREGORIAN
METHOD:PUBLISH
X-ORIGINAL-URL:https://surfcenter-experience.com/nl/
X-WR-CALDESC:Evenementen voor Surfcenter Experiences
REFRESH-INTERVAL;VALUE=DURATION:PT1H
X-Robots-Tag:noindex
X-PUBLISHED-TTL:PT1H
BEGIN:VTIMEZONE
TZID:Europe/Amsterdam
BEGIN:DAYLIGHT
TZOFFSETFROM:+0100
TZOFFSETTO:+0200
TZNAME:CEST
DTSTART:20240331T010000
END:DAYLIGHT
BEGIN:STANDARD
TZOFFSETFROM:+0200
TZOFFSETTO:+0100
TZNAME:CET
DTSTART:20241027T010000
END:STANDARD
BEGIN:DAYLIGHT
TZOFFSETFROM:+0100
TZOFFSETTO:+0200
TZNAME:CEST
DTSTART:20250330T010000
END:DAYLIGHT
BEGIN:STANDARD
TZOFFSETFROM:+0200
TZOFFSETTO:+0100
TZNAME:CET
DTSTART:20251026T010000
END:STANDARD
BEGIN:DAYLIGHT
TZOFFSETFROM:+0100
TZOFFSETTO:+0200
TZNAME:CEST
DTSTART:20260329T010000
END:DAYLIGHT
BEGIN:STANDARD
TZOFFSETFROM:+0200
TZOFFSETTO:+0100
TZNAME:CET
DTSTART:20261025T010000
END:STANDARD
END:VTIMEZONE
BEGIN:VEVENT
DTSTART;TZID=Europe/Amsterdam:20250906T120000
DTEND;TZID=Europe/Amsterdam:20250906T170000
DTSTAMP:20260420T114951
CREATED:20250819T060138Z
LAST-MODIFIED:20250819T060138Z
UID:10000063-1757160000-1757178000@surfcenter-experience.com
SUMMARY:Wind & Water Festival Schildmeer - GRATIS toegang
DESCRIPTION:Deze ervaring heeft al plaatsgevonden.Op zoek naar de volgende editie? \n👉 Ontdek de komende Surfcenter Experiences \n  \n  \n  \nWIND & WATER FESTIVAL SCHILDMEER\, Wind\, zon & fun aan het Schildmeer \nZaterdag 6 september. Zin in een dag vol actie\, waterpret en relaxte vibes? \nKom naar het Wind & Water Festival Schildmeer – hét watersportevenement van het noorden! Van 12:00 tot 17:00 toveren we het nieuwe surfstrand in Steendam om tot een gaaf terrein vol windsurfen\, wingfoilen\, suppen\, zeilen\, muziek\, food & drinks – en dat allemaal met gratis toegang.  \nDoe mee aan: gratis windsurf-\, wingfoil-\, SUP- en zeilclinics\, reuze-SUP-races en zeilen met de Polyvalk. Krijg tips en ontmoet voormalig wereldkampioen windsurfen Jordy Vonk\, pro-windsurfer Femke van der Veen en bekijk WINGFOIL-demo’s van talent Kalle Dinant. We openen het surfstrand feestelijk samen met de wethouder en zorgen voor muziek\, een hapje en gezelligheid op de wal. Iedereen is welkom – jong of oud\, solo\, met vrienden of als gezin\, ervaren watersporter of nieuwsgierige beginner.    \nLocatie: Roegeweg 11\, Steendam. Toegang: Gratis \nKom je of komen jullie ook langs? Laat het ons even weten via dit formulier: Link; thanks!  \n(Voorlopig) programma \n12:00\n Opening festival – iedereen welkom! \n12:30 – 13:30\n Gratis clinics & demo’s: \n\nWingfoil (starter & intermediate)\nWindsurf (starter & advanced)\nSUP-clinics\nPolyvalk zeilen (in samenwerking met de Zeilvereniging Schildmeer)\n\n👉 Deelname gratis\, maar beperkt aantal plekken. Reserveer via dit formulier: Link \n \n14:00\n 🎊 Officiële opening surfstrand door wethouder Annemiek Hoesen van de gemeente Midden-Groningen (al surfend? 😉) \n14:15 – 15:30 \n\nONK Giekhangen & ONK Mast-Limbo (met prijzen!)\nFunraces: Mega SUP & Windsurf/Wingfoil\nDemo’s & tips van o.a. pro rider Jordy Vonk & talent Kalle Dinant\n\n15:45 – 17:00\n Nogmaals clinics & demo’s: \n\nWingfoil (starter & intermediate)\nWindsurf (starter & advanced)\nSUP-clinics\nPolyvalk zeilen (in samenwerking met de Zeilvereniging Schildmeer)\n\n👉 Deelname gratis\, maar beperkt aantal plekken. Reserveer via dit formulier: Link  \nDe hele middag\n\nMuziek & gezelligheid\nFood & drinks (tegen betaling) in samenwerking met paviljoen BOEI12\nExpo van windsurf- & wingfoil-gear\nKing of the Lake Speed Challenge\nVeel surfvibes en fun!\n\n📍 Locatie: Surfstrand\, ingang naast Roegeweg 11\, Steendam\n  💸 Toegang: Gratis \nKom je of komen jullie ook langs? Laat het ons even weten via dit formulier: Link; thanks!  \n  \n \nMeer informatie over de surfspot Surfstrand Schildmeer Steendam vind je hier: Link
URL:https://surfcenter-experience.com/nl/event/wind-water-festival-schildmeer-gratis-toegang/
LOCATION:Surfstrand Schildmeer\, Roegeweg 11\, Steendam\, Groningen\, 9629 PA\, Netherlands
CATEGORIES:Events,OnTheSpot
ATTACH;FMTTYPE=image/png:https://surfcenter-experience.com/wp-content/uploads/2025/08/Affiche-V2-169.png
END:VEVENT
END:VCALENDAR