BEGIN:VCALENDAR
VERSION:2.0
PRODID:-//Surfcenter Experiences - ECPv6.15.20//NONSGML v1.0//EN
CALSCALE:GREGORIAN
METHOD:PUBLISH
X-WR-CALNAME:Surfcenter Experiences
X-ORIGINAL-URL:https://surfcenter-experience.com
X-WR-CALDESC:Events for Surfcenter Experiences
REFRESH-INTERVAL;VALUE=DURATION:PT1H
X-Robots-Tag:noindex
X-PUBLISHED-TTL:PT1H
BEGIN:VTIMEZONE
TZID:Europe/Amsterdam
BEGIN:DAYLIGHT
TZOFFSETFROM:+0100
TZOFFSETTO:+0200
TZNAME:CEST
DTSTART:20240331T010000
END:DAYLIGHT
BEGIN:STANDARD
TZOFFSETFROM:+0200
TZOFFSETTO:+0100
TZNAME:CET
DTSTART:20241027T010000
END:STANDARD
BEGIN:DAYLIGHT
TZOFFSETFROM:+0100
TZOFFSETTO:+0200
TZNAME:CEST
DTSTART:20250330T010000
END:DAYLIGHT
BEGIN:STANDARD
TZOFFSETFROM:+0200
TZOFFSETTO:+0100
TZNAME:CET
DTSTART:20251026T010000
END:STANDARD
BEGIN:DAYLIGHT
TZOFFSETFROM:+0100
TZOFFSETTO:+0200
TZNAME:CEST
DTSTART:20260329T010000
END:DAYLIGHT
BEGIN:STANDARD
TZOFFSETFROM:+0200
TZOFFSETTO:+0100
TZNAME:CET
DTSTART:20261025T010000
END:STANDARD
END:VTIMEZONE
BEGIN:VEVENT
DTSTART;VALUE=DATE:20250913
DTEND;VALUE=DATE:20250914
DTSTAMP:20260421T111347
CREATED:20250313T153849Z
LAST-MODIFIED:20260316T201711Z
UID:10000019-1757721600-1757807999@surfcenter-experience.com
SUMMARY:Surfcenter Ladies Day - Germany
DESCRIPTION:This experience already took place.Looking for the next edition? \n👉 Discover the upcoming Surfcenter Experiences \n  \n  \n  \n  \nLADIES DAY is now also in Germany! \nAfter the success of the Ladies day in Netherlands\, we decided to launcher the Ladies day also in Germany. This event is a collaboration with the German windsurf Federation and Surfcenter. \nBe ready for a full day of fun and good vibe with yoga\, windsurfing/wing\, SUP and foil clinics\, races\, healthy food\, drinsk\, good music and much more! \nLadies from 12 to 88 years old are welcome! Together we will make it another great day. Leave your partner or father at home (or let him carry your gear) – it’s all about the ladies! \nCosts for participation in Ladies Day are 25 euros (excl. lunch). \nSo gather your friends\, sisters\, and colleagues and register now. We can only host a maximum of 75 ladies so don’t wait too long to register. \nSee you on Ladies Day!
URL:https://surfcenter-experience.com/event/surfcenter-ladies-day-germany/
LOCATION:Kiel\, Germany
CATEGORIES:Clinics,Events
ATTACH;FMTTYPE=image/jpeg:https://surfcenter-experience.com/wp-content/uploads/2025/03/52069988603_5a67edc313_z.jpg
END:VEVENT
BEGIN:VEVENT
DTSTART;VALUE=DATE:20251003
DTEND;VALUE=DATE:20251004
DTSTAMP:20260421T111347
CREATED:20250929T162206Z
LAST-MODIFIED:20260316T201700Z
UID:10000041-1759449600-1759535999@surfcenter-experience.com
SUMMARY:Starboard 2026 Race Line-Up Presentation with Rémi Vila
DESCRIPTION:This experience already took place.Looking for the next edition? \n👉 Discover the upcoming Surfcenter Experiences \n  \n  \n  \nThis Friday\, October 3rd at 16:30 CET we’re going live with Starboard designer Rémi Vila! \nQuick facts:\n🔥 Join the interactive Q&A session and ask all your questions to your host Marco!\n🔬 Explore all the details about the new Starboard Isonic and X-15\n👀 Insights into the design process of the new boards\n⚙️ Get advice from PWA rider Femke van der Veen on how to tune the new products\n🤷‍♂️ Ask questions on any of the new products of the 2026 range\n👉 Don’t miss it: learn\, listen & get better together with the pros. \n  \nSign up for FREE by clicking ‘BUY TICKETS’ and we’ll see you on Friday!
URL:https://surfcenter-experience.com/event/starboard-2026-race-line-up-presentation-with-remi-vila/
LOCATION:Private: Online
CATEGORIES:Clinics
ATTACH;FMTTYPE=image/jpeg:https://surfcenter-experience.com/wp-content/uploads/2025/09/WhatsApp-Image-2025-09-29-at-15.37.14.jpeg
END:VEVENT
END:VCALENDAR