BEGIN:VCALENDAR
VERSION:2.0
PRODID:-//Surfcenter Experiences - ECPv6.15.20//NONSGML v1.0//EN
CALSCALE:GREGORIAN
METHOD:PUBLISH
X-WR-CALNAME:Surfcenter Experiences
X-ORIGINAL-URL:https://surfcenter-experience.com
X-WR-CALDESC:Events for Surfcenter Experiences
REFRESH-INTERVAL;VALUE=DURATION:PT1H
X-Robots-Tag:noindex
X-PUBLISHED-TTL:PT1H
BEGIN:VTIMEZONE
TZID:Europe/Amsterdam
BEGIN:DAYLIGHT
TZOFFSETFROM:+0100
TZOFFSETTO:+0200
TZNAME:CEST
DTSTART:20240331T010000
END:DAYLIGHT
BEGIN:STANDARD
TZOFFSETFROM:+0200
TZOFFSETTO:+0100
TZNAME:CET
DTSTART:20241027T010000
END:STANDARD
BEGIN:DAYLIGHT
TZOFFSETFROM:+0100
TZOFFSETTO:+0200
TZNAME:CEST
DTSTART:20250330T010000
END:DAYLIGHT
BEGIN:STANDARD
TZOFFSETFROM:+0200
TZOFFSETTO:+0100
TZNAME:CET
DTSTART:20251026T010000
END:STANDARD
BEGIN:DAYLIGHT
TZOFFSETFROM:+0100
TZOFFSETTO:+0200
TZNAME:CEST
DTSTART:20260329T010000
END:DAYLIGHT
BEGIN:STANDARD
TZOFFSETFROM:+0200
TZOFFSETTO:+0100
TZNAME:CET
DTSTART:20261025T010000
END:STANDARD
END:VTIMEZONE
BEGIN:VEVENT
DTSTART;VALUE=DATE:20250912
DTEND;VALUE=DATE:20250913
DTSTAMP:20260420T144715
CREATED:20250909T110805Z
LAST-MODIFIED:20260316T201723Z
UID:10000039-1757635200-1757721599@surfcenter-experience.com
SUMMARY:Webinar with Jordy Vonk - Online Q&A session
DESCRIPTION:This experience already took place.Looking for the next edition? \n👉 Discover the upcoming Surfcenter Experiences \n  \n  \n  \n  \nThis Friday\, September 12 at 8:30 PM CEST we’re going live with Jordy Vonk! \nQuick facts:\n🔥 Join the interactive Q&A session and ask all your questions\n🔬 Explaining the WARP_FIN changes\n👀 Insights on the FALCON_FIN D/LAB\n⚙️ How to tune your gear\n🤷‍♂️ What exactly is MTO?\n😎 Upcoming clinics & experiences\n👉 Don’t miss it: learn\, listen & get better together with the pros. \n  \nSign up for FREE by clicking ‘BUY TICKETS’ and we’ll see you on Friday!
URL:https://surfcenter-experience.com/event/webinar-with-jordy-vonk-online-qa-session/
LOCATION:Private: Online
CATEGORIES:Clinics
ATTACH;FMTTYPE=image/jpeg:https://surfcenter-experience.com/wp-content/uploads/2025/09/output.auto_.jpg
END:VEVENT
END:VCALENDAR