BEGIN:VCALENDAR
VERSION:2.0
PRODID:-//Surfcenter Experiences - ECPv6.15.20//NONSGML v1.0//EN
CALSCALE:GREGORIAN
METHOD:PUBLISH
X-ORIGINAL-URL:https://surfcenter-experience.com
X-WR-CALDESC:Events for Surfcenter Experiences
REFRESH-INTERVAL;VALUE=DURATION:PT1H
X-Robots-Tag:noindex
X-PUBLISHED-TTL:PT1H
BEGIN:VTIMEZONE
TZID:Europe/Amsterdam
BEGIN:DAYLIGHT
TZOFFSETFROM:+0100
TZOFFSETTO:+0200
TZNAME:CEST
DTSTART:20240331T010000
END:DAYLIGHT
BEGIN:STANDARD
TZOFFSETFROM:+0200
TZOFFSETTO:+0100
TZNAME:CET
DTSTART:20241027T010000
END:STANDARD
BEGIN:DAYLIGHT
TZOFFSETFROM:+0100
TZOFFSETTO:+0200
TZNAME:CEST
DTSTART:20250330T010000
END:DAYLIGHT
BEGIN:STANDARD
TZOFFSETFROM:+0200
TZOFFSETTO:+0100
TZNAME:CET
DTSTART:20251026T010000
END:STANDARD
BEGIN:DAYLIGHT
TZOFFSETFROM:+0100
TZOFFSETTO:+0200
TZNAME:CEST
DTSTART:20260329T010000
END:DAYLIGHT
BEGIN:STANDARD
TZOFFSETFROM:+0200
TZOFFSETTO:+0100
TZNAME:CET
DTSTART:20261025T010000
END:STANDARD
END:VTIMEZONE
BEGIN:VEVENT
DTSTART;VALUE=DATE:20250825
DTEND;VALUE=DATE:20250901
DTSTAMP:20260420T115146
CREATED:20250405T182905Z
LAST-MODIFIED:20260316T201752Z
UID:10000022-1756080000-1756684799@surfcenter-experience.com
SUMMARY:Surfcenter x Marotti Croatia Experience
DESCRIPTION:This experience already took place.Looking for the next edition? \n👉 Discover the upcoming Surfcenter Experiences \n  \n  \n  \nMake your Windsurfing Dreams come true! \nxxx \nJoin world-class windsurfer Enrico Marotti for an exclusive week of windsurf coaching in the beautiful bay of Volosko\, Croatia.Each morning you’ll train in ideal flatwater conditions\, with expert guidance\, professional video analysis\, and tailored coaching to elevate your performance. \nYour afternoons are free to relax or enjoy a wide range of optional outdoor and watersport activities: E-foil\, SUP tours\, tow foil\, boat trips\, and cycling adventures await you. \nThe week is designed to suit not only motivated windsurfers but also families and couples\, with a relaxed daily rhythm and the option of beginner windsurf lessons with a second instructor – so everyone can enjoy the experience at their own level. \nThis isn’t just a training camp – it’s a full lifestyle experience. Don’t hesitate too long\, there are limited places! \nxQuick Facts \n\nWhere: Volosko/ Croatia\nWhen: 25th to 31th of August 2025\nWhat: Windsurf/Windfoil Coaching | Family friendly | Other watersport activities\nCoaching: Enrico Marotti\nConditions: Flatwater\, 25-30°C\, 15-20 knots\nLevel: Intermediate\, Advanced and Semi Pro (Beginners welcome with an other instructor)\n\n  \nOverview\n\n6 Morning of Coaching\n6 Nights at the Casa Tradizionale\, or equivalent\nYour windsurf gear storage (or Freeride or Foil renting)\nComplementary water sport activities: E-foil\, SUP tours\, tow foil\, boat trip\, and cycling\nDaily healthy and energizing breakfast and lunch on the beach\n\n  \nAbout the Experience\nJoin Enrico Marotti\, one of the sport’s leading professionals\, from August 25th to 31st 2025\, for a six-day coaching event in Volosko\, Croatia. This event is designed for windsurfers who want to elevate their skills with top-tier coaching and ideal windsurfing conditions. Stay at the house on the beach\, enjoy complementary watersport activities and immerse yourself in a community of like-minded athletes. Whether you are refining advanced techniques or focusing on specific aspects of your windsurfing\, this program offers an unparalleled learning experience that will elevate your performance on the water.   \n Want to bring your family? It’s the perfect opportunity to share quality time together\, discover new activities\, explore local culture and cuisine – or simply relax on the beach. \n  \nPerfect Foiling Spot\nVolosko offers gentle\, steady winds and warm water temperatures\, making it an ideal spot to learn or improve your foiling. Whether you’re taking your first flights or refining your jibes\, you’ll benefit from top-level foil gear available for rent\, a safe and friendly environment\, and expert feedback. \nx\n\nPricing Options – Choose the Experience That Fits You Best\n🔹 Marotti Experience – Advanced – All-Inclusive with Foil Gear \nIncludes: Coaching with Enrico Marotti\, Video Analysis\, Foil Pro Gear Rental\, Shared House\, Daily Breakfast & Lunch\, Afternoon Water Sports (e-foil\, SUP\, tow foil\, boat trip\, cycling)\, Event Shirt & LycraStarting at 2 195\,00€ (depending on room) \n🔹 Marotti Experience – Advanced – All-Inclusive with Freeride Gear \nIncludes: Coaching with Enrico Marotti\, Video Analysis\, Freeride Gear Rental\, Shared House\, Daily Breakfast & Lunch\, Afternoon Activities\, Event Shirt & LycraStarting at 2 095\,00€ \n🔹 Marotti Experience – Coaching + Accommodation (No Rental Gear) \nIncludes: Coaching\, Video Analysis\, Shared House\, Daily Breakfast & Lunch\, Gear Storage\, Afternoon Activities\, Event Shirt & LycraStarting at 1 950\,00€ \n🔹 Marotti Experience – Coaching Only \nIncludes: Coaching\, Video Analysis\, Daily Breakfast & Lunch\, Afternoon Activities\, Event Shirt & Lycra1 695\,00€ \n🔹 Beginner Experience – No Hotel \nIncludes: Beginner Coaching\, Beginner Gear\, Daily Lunch\, Afternoon Activities\, Event Shirt & Lycra1 295\,00€
URL:https://surfcenter-experience.com/event/marotti-coaching-experience/
LOCATION:Volosko\, Crotatia\, Obala Frana Supila\, Rijeka\, 51000\, Croatia (Local Name: Hrvatska)
CATEGORIES:Clinics
ATTACH;FMTTYPE=image/jpeg:https://surfcenter-experience.com/wp-content/uploads/2025/04/IMG_3322-scaled.jpg
END:VEVENT
END:VCALENDAR