BEGIN:VCALENDAR
VERSION:2.0
PRODID:-//Surfcenter Experiences - ECPv6.15.20//NONSGML v1.0//EN
CALSCALE:GREGORIAN
METHOD:PUBLISH
X-ORIGINAL-URL:https://surfcenter-experience.com
X-WR-CALDESC:Events for Surfcenter Experiences
REFRESH-INTERVAL;VALUE=DURATION:PT1H
X-Robots-Tag:noindex
X-PUBLISHED-TTL:PT1H
BEGIN:VTIMEZONE
TZID:Europe/Amsterdam
BEGIN:DAYLIGHT
TZOFFSETFROM:+0100
TZOFFSETTO:+0200
TZNAME:CEST
DTSTART:20240331T010000
END:DAYLIGHT
BEGIN:STANDARD
TZOFFSETFROM:+0200
TZOFFSETTO:+0100
TZNAME:CET
DTSTART:20241027T010000
END:STANDARD
BEGIN:DAYLIGHT
TZOFFSETFROM:+0100
TZOFFSETTO:+0200
TZNAME:CEST
DTSTART:20250330T010000
END:DAYLIGHT
BEGIN:STANDARD
TZOFFSETFROM:+0200
TZOFFSETTO:+0100
TZNAME:CET
DTSTART:20251026T010000
END:STANDARD
BEGIN:DAYLIGHT
TZOFFSETFROM:+0100
TZOFFSETTO:+0200
TZNAME:CEST
DTSTART:20260329T010000
END:DAYLIGHT
BEGIN:STANDARD
TZOFFSETFROM:+0200
TZOFFSETTO:+0100
TZNAME:CET
DTSTART:20261025T010000
END:STANDARD
END:VTIMEZONE
BEGIN:VEVENT
DTSTART;VALUE=DATE:20250629
DTEND;VALUE=DATE:20250630
DTSTAMP:20260420T131017
CREATED:20250425T215051Z
LAST-MODIFIED:20260316T201811Z
UID:10000026-1751155200-1751241599@surfcenter-experience.com
SUMMARY:Coaching day - Netherlands
DESCRIPTION:This experience already took place.Looking for the next edition? \n👉 Discover the upcoming Surfcenter Experiences \n  \n  \n  \n🌊 Freeride & Freerace training day\nGet Ready to Level Up Your Windsurfing! \nLoved Ladies Day but craving more action? Want to improve your racing skills\, go faster\, gain confidence with footstraps and harness\, nail your waterstart\, or master the power jibe?Whether you’re prepping for competition or just want to boost your performance\, this day is made for you! This day is also open for boys! \nJoin Femke Van Der Veen\, professional windsurfer\, for a complete day of coaching packed with tips\, techniques\, and on-water action. \nt \n🧭 What to Expect\n✅ Group & 1-on-1 Coaching✅ On-Water Practice Sessions✅ Video Analysis✅ Theoretical Insights✅ Q&A with Femke✅ Tons of Progress and Fun! \nt \n🏄‍♂️ Program Highlights\n🔧 Gear & Technique\n\n\nBasic skill recap \n\n\nGear setup & upgrade tips \n\n\nCore control techniques for smoother sailing \n\n\nPhysical training advice tailored to your goals \n\n\n💨 On-Water Action\n\n\nBack on the water: prepare for the summer & races \n\n\nPractice key moves: jibe\, tack\, water & beach start\, power jibe\, harness\, footstraps \n\n\nSpeed improvement sessions \n\n\n  \n📝 Useful Info\n\n\nNo gear? No problem — Rentals & test gear available \n\nNot available this time but still want coaching from Femke? — Join one of her other sessions on May 4–5 or June 7 to 9!\n\n  \n🚩 Spot Info\nKornwerderzand is a perfect spot for improving your skills\, it’s located on the IJsselmeer in the north of the Netherlands. This popular spot and accessible area offers a variety of conditions depending on the wind direction: from flat water to playful chop and small waves. It’s an ideal training ground for all levels. The large shallow area makes it especially beginner-friendly\, providing safe and easy practice for beach starts\, water starts\, and gybes. Plus\, the village of Makkum adds a relaxed vibe to your session. \n  \n📬 Interested?\nGot questions? Need help with gear or logistics?Send us a message — we’re here to make it easy!
URL:https://surfcenter-experience.com/event/femke-van-der-veen-nl-experience-29-june/
LOCATION:Kornwerderzand beach\, Kornwerderzand\,\, Sûdwest Fryslân\, Netherlands
CATEGORIES:Clinics
ATTACH;FMTTYPE=image/png:https://surfcenter-experience.com/wp-content/uploads/2025/04/29-June.png
END:VEVENT
END:VCALENDAR