BEGIN:VCALENDAR
VERSION:2.0
PRODID:-//Surfcenter Experiences - ECPv6.15.20//NONSGML v1.0//EN
CALSCALE:GREGORIAN
METHOD:PUBLISH
X-ORIGINAL-URL:https://surfcenter-experience.com
X-WR-CALDESC:Events for Surfcenter Experiences
REFRESH-INTERVAL;VALUE=DURATION:PT1H
X-Robots-Tag:noindex
X-PUBLISHED-TTL:PT1H
BEGIN:VTIMEZONE
TZID:Europe/Amsterdam
BEGIN:DAYLIGHT
TZOFFSETFROM:+0100
TZOFFSETTO:+0200
TZNAME:CEST
DTSTART:20240331T010000
END:DAYLIGHT
BEGIN:STANDARD
TZOFFSETFROM:+0200
TZOFFSETTO:+0100
TZNAME:CET
DTSTART:20241027T010000
END:STANDARD
BEGIN:DAYLIGHT
TZOFFSETFROM:+0100
TZOFFSETTO:+0200
TZNAME:CEST
DTSTART:20250330T010000
END:DAYLIGHT
BEGIN:STANDARD
TZOFFSETFROM:+0200
TZOFFSETTO:+0100
TZNAME:CET
DTSTART:20251026T010000
END:STANDARD
BEGIN:DAYLIGHT
TZOFFSETFROM:+0100
TZOFFSETTO:+0200
TZNAME:CEST
DTSTART:20260329T010000
END:DAYLIGHT
BEGIN:STANDARD
TZOFFSETFROM:+0200
TZOFFSETTO:+0100
TZNAME:CET
DTSTART:20261025T010000
END:STANDARD
END:VTIMEZONE
BEGIN:VEVENT
DTSTART;VALUE=DATE:20250628
DTEND;VALUE=DATE:20250629
DTSTAMP:20260420T131051
CREATED:20250222T144111Z
LAST-MODIFIED:20260316T201817Z
UID:10000014-1751068800-1751155199@surfcenter-experience.com
SUMMARY:Surfcenter Ladies Day - Netherlands
DESCRIPTION:This experience already took place.Looking for the next edition? \n👉 Discover the upcoming Surfcenter Experiences \n  \n  \n  \nLADIES DAY is back! \nLadies day 2025 is a collaboration with Surfcenter\, Surf N Sail and Funsport Makkum. After the huge success of the past 3 years\, this year will be even better! Yoga\, windsurfing/wing\, SUP and foil clinics\, races\, healthy food\, a drink\, good music and much more! \nLadies from 12 to 88 years old are welcome! Together we will make it another great day. Leave your partner or father at home (or let him carry your gear) – it’s all about the ladies! \nCosts for participation in Ladies Day are 25€ (excluding lunch). \nSo gather your friends\, sisters\, and colleagues and register now. We can only host a maximum of 150 ladies so don’t wait too long to register. \nSee you on Ladies Day!
URL:https://surfcenter-experience.com/event/surfcenter-ladies-day/
LOCATION:Makkum Beach\, De Skilbank\, Makkum\, Friesland\, 8754 HP\, Netherlands
CATEGORIES:Clinics,Events
ATTACH;FMTTYPE=image/jpeg:https://surfcenter-experience.com/wp-content/uploads/2025/02/53795416610_edf00d8a6c_z.jpg
END:VEVENT
END:VCALENDAR